Workbook

Sheet Sheet1 
A1: 学院 | B1: 学生学号 | C1: 学生姓名 | D1: 年级 | E1: 前期经费 有效期 | F1: 划转标准 (元/月) | G1: 按年划转月份 | H1: 按年划转金额 | I1: 一次性划转月份 | J1: 一次性划转金额 | K1: 导师姓名 | L1: 备注
A2: 01 | B2: BX2601519 | C2: 高博 | D2: =MID(B2,3,2) -> 26 | E2: / | F2: 2550 | G2: 13 | H2: =G2*F2 -> 33150 | I2: 48 | J2: =I2*F2 -> 122400 | K2: 高金翎
A3: 01 | B3: BX2601512 | C3: 麦艺彬 | D3: =MID(B3,3,2) -> 26 | E3: / | F3: 2550 | G3: 13 | H3: =G3*F3 -> 33150 | I3: 48 | J3: =I3*F3 -> 122400 | K3: 卢天健
A4: 01 | B4: BX2601516 | C4: 柳凌杰 | D4: =MID(B4,3,2) -> 26 | E4: / | F4: 2550 | G4: 13 | H4: =G4*F4 -> 33150 | I4: 48 | J4: =I4*F4 -> 122400 | K4: 聂日明
A5: 01 | B5: BX2601504 | C5: 许波 | D5: =MID(B5,3,2) -> 26 | E5: / | F5: 2550 | G5: 13 | H5: =G5*F5 -> 33150 | I5: 48 | J5: =I5*F5 -> 122400 | K5: 台国安
A6: 01 | B6: BX2601514 | C6: 丰浚轩 | D6: =MID(B6,3,2) -> 26 | E6: / | F6: 2550 | G6: 13 | H6: =G6*F6 -> 33150 | I6: 48 | J6: =I6*F6 -> 122400 | K6: 杨鲤铭
A7: 01 | B7: BX2601529 | C7: 焦晨佳 | D7: =MID(B7,3,2) -> 26 | E7: / | F7: 2550 | G7: 13 | H7: =G7*F7 -> 33150 | I7: 48 | J7: =I7*F7 -> 122400 | K7: 易敏
A8: 01 | B8: BX2601510 | C8: 乙明国 | D8: =MID(B8,3,2) -> 26 | E8: / | F8: 2550 | G8: 13 | H8: =G8*F8 -> 33150 | I8: 48 | J8: =I8*F8 -> 122400 | K8: 张超
A9: 01 | B9: BX2601523 | C9: 朱恒基 | D9: =MID(B9,3,2) -> 26 | E9: / | F9: 2550 | G9: 13 | H9: =G9*F9 -> 33150 | I9: 48 | J9: =I9*F9 -> 122400 | K9: 赵淳生
A10: 01 | B10: BX2601902 | C10: 王雨欣 | D10: =MID(B10,3,2) -> 26 | E10: / | F10: 2550 | G10: 13 | H10: =G10*F10 -> 33150 | I10: 60 | J10: =I10*F10 -> 153000 | K10: 赵宁 | L10: 学制5年
A11: 01 | B11: BX2601502 | C11: 张恒瑜 | D11: =MID(B11,3,2) -> 26 | E11: / | F11: 2550 | G11: 13 | H11: =G11*F11 -> 33150 | I11: 48 | J11: =I11*F11 -> 122400 | K11: 周储伟
A12: 01 | B12: BX2601501 | C12: 苏珂 | D12: =MID(B12,3,2) -> 26 | E12: / | F12: 2550 | G12: 13 | H12: =G12*F12 -> 33150 | I12: 48 | J12: =I12*F12 -> 122400 | K12: 周春华
A13: 01 | B13: BX2501523 | C13: 刘畅 | D13: =MID(B13,3,2) -> 25 | E13: 46266 | F13: 2550 | G13: 12 | H13: =G13*F13 -> 30600 | I13: 35 | J13: =I13*F13 -> 89250 | K13: 陈超
A14: 01 | B14: BX2501514 | C14: 马弘扬 | D14: =MID(B14,3,2) -> 25 | E14: 46266 | F14: 2550 | G14: 12 | H14: =G14*F14 -> 30600 | I14: 35 | J14: =I14*F14 -> 89250 | K14: 邓威
A15: 01 | B15: BX2501515 | C15: 张昊昊 | D15: =MID(B15,3,2) -> 25 | E15: 46266 | F15: 2550 | G15: 12 | H15: =G15*F15 -> 30600 | I15: 35 | J15: =I15*F15 -> 89250 | K15: 邓威
A16: 01 | B16: BX2501516 | C16: 蒋伟忠 | D16: =MID(B16,3,2) -> 25 | E16: 46266 | F16: 2550 | G16: 12 | H16: =G16*F16 -> 30600 | I16: 35 | J16: =I16*F16 -> 89250 | K16: 高金翎
A17: 01 | B17: BX2501517 | C17: 泰哲 | D17: =MID(B17,3,2) -> 25 | E17: 46266 | F17: 2550 | G17: 12 | H17: =G17*F17 -> 30600 | I17: 35 | J17: =I17*F17 -> 89250 | K17: 高金翎
A18: 01 | B18: BX2501518 | C18: 彭淑婷 | D18: =MID(B18,3,2) -> 25 | E18: 46266 | F18: 2550 | G18: 12 | H18: =G18*F18 -> 30600 | I18: 35 | J18: =I18*F18 -> 89250 | K18: 韩玉龙
A19: 01 | B19: BX2501709 | C19: 刘正东 | D19: =MID(B19,3,2) -> 25 | E19: 46266 | F19: 2550 | G19: 12 | H19: =G19*F19 -> 30600 | I19: 35 | J19: =I19*F19 -> 89250 | K19: 韩玉龙
A20: 01 | B20: BX2501527 | C20: 李海龙 | D20: =MID(B20,3,2) -> 25 | E20: 46266 | F20: 2550 | G20: 12 | H20: =G20*F20 -> 30600 | I20: 35 | J20: =I20*F20 -> 89250 | K20: 李华峰
A21: 01 | B21: BX2501708 | C21: 宋沭浩 | D21: =MID(B21,3,2) -> 25 | E21: 46266 | F21: 2550 | G21: 12 | H21: =G21*F21 -> 30600 | I21: 35 | J21: =I21*F21 -> 89250 | K21: 李鹏
A22: 01 | B22: BX2501710 | C22: 杨志川 | D22: =MID(B22,3,2) -> 25 | E22: 46266 | F22: 2550 | G22: 12 | H22: =G22*F22 -> 30600 | I22: 35 | J22: =I22*F22 -> 89250 | K22: 乔瑞喜
A23: 01 | B23: BX2501522 | C23: 张鼎 | D23: =MID(B23,3,2) -> 25 | E23: 46266 | F23: 2550 | G23: 12 | H23: =G23*F23 -> 30600 | I23: 35 | J23: =I23*F23 -> 89250 | K23: 裘进浩
A24: 01 | B24: BX2501526 | C24: 江涵 | D24: =MID(B24,3,2) -> 25 | E24: 46266 | F24: 2550 | G24: 12 | H24: =G24*F24 -> 30600 | I24: 35 | J24: =I24*F24 -> 89250 | K24: 王亮
... A35: 01 | B35: BX2401525 | C35: 赵国志 | D35: =MID(B35,3,2) -> 24 | E35: 46266 | F35: 2550 | G35: 12 | H35: =G35*F35 -> 30600 | I35: 23 | J35: =I35*F35 -> 58650 | K35: 陈普会
A36: 01 | B36: BX2401904 | C36: 程柯心 | D36: =MID(B36,3,2) -> 24 | E36: 46266 | F36: 2550 | G36: 12 | H36: =G36*F36 -> 30600 | I36: 35 | J36: =I36*F36 -> 89250 | K36: 金栋平 | L36: 学制5年
A37: 01 | B37: BX2401515 | C37: 潘子韬 | D37: =MID(B37,3,2) -> 24 | E37: 46266 | F37: 2550 | G37: 12 | H37: =G37*F37 -> 30600 | I37: 23 | J37: =I37*F37 -> 58650 | K37: 刘强
A38: 01 | B38: BX2401516 | C38: 时浩林 | D38: =MID(B38,3,2) -> 24 | E38: 46266 | F38: 2550 | G38: 12 | H38: =G38*F38 -> 30600 | I38: 23 | J38: =I38*F38 -> 58650 | K38: 刘强
A39: 01 | B39: BX2401509 | C39: 邸海茂 | D39: =MID(B39,3,2) -> 24 | E39: 46266 | F39: 2550 | G39: 12 | H39: =G39*F39 -> 30600 | I39: 23 | J39: =I39*F39 -> 58650 | K39: 钱征华
A40: 01 | B40: BX2401005 | C40: 许茅平 | D40: =MID(B40,3,2) -> 24 | E40: 46266 | F40: 2550 | G40: 12 | H40: =G40*F40 -> 30600 | I40: 18 | J40: =I40*F40 -> 45900 | K40: 台国安 | L40: 春博
A41: 01 | B41: BX2401513 | C41: 王文泽 | D41: =MID(B41,3,2) -> 24 | E41: 46266 | F41: 2550 | G41: 12 | H41: =G41*F41 -> 30600 | I41: 23 | J41: =I41*F41 -> 58650 | K41: 吴奇
A42: 01 | B42: BX2401524 | C42: 李煜 | D42: =MID(B42,3,2) -> 24 | E42: 46266 | F42: 2550 | G42: 12 | H42: =G42*F42 -> 30600 | I42: 23 | J42: =I42*F42 -> 58650 | K42: 薛彩军
A43: 01 | B43: BX2301515 | C43: 张京俊 | D43: =MID(B43,3,2) -> 23 | E43: 46266 | F43: 2550 | G43: 11 | H43: =G43*F43 -> 28050 | I43: 11 | J43: 28050 | K43: 董昊
A44: 01 | B44: BZ2301513 | C44: 谢春梅 | D44: =MID(B44,3,2) -> 23 | E44: 46266 | F44: 2550 | G44: 11 | H44: =G44*F44 -> 28050 | I44: 11 | J44: 28050 | K44: 韩玉龙
A45: 01 | B45: BX2301504 | C45: 朱瑞 | D45: =MID(B45,3,2) -> 23 | E45: 46266 | F45: 2550 | G45: 11 | H45: =G45*F45 -> 28050 | I45: 11 | J45: 28050 | K45: 台国安
A46: 01 | B46: BX2301518 | C46: 王博 | D46: =MID(B46,3,2) -> 23 | E46: 46266 | F46: 2550 | G46: 11 | H46: =G46*F46 -> 28050 | I46: 11 | J46: 28050 | K46: 吴大伟
A47: 01 | B47: BX2301519 | C47: 俞航 | D47: =MID(B47,3,2) -> 23 | E47: 46266 | F47: 2550 | G47: 11 | H47: =G47*F47 -> 28050 | I47: 11 | J47: 28050 | K47: 吴大伟
A48: 01 | B48: BX2301506 | C48: 肖鸿威 | D48: =MID(B48,3,2) -> 23 | E48: 46266 | F48: 2550 | G48: 11 | H48: =G48*F48 -> 28050 | I48: 11 | J48: 28050 | K48: 吴杰
A49: 01 | B49: BX2301526 | C49: 冯媛媛 | D49: =MID(B49,3,2) -> 23 | E49: 46266 | F49: 2550 | G49: 11 | H49: =G49*F49 -> 28050 | I49: 11 | J49: 28050 | K49: 吴奇
A50: 01 | B50: BX2301509 | C50: 李振凯 | D50: =MID(B50,3,2) -> 23 | E50: 46266 | F50: 2550 | G50: 11 | H50: =G50*F50 -> 28050 | I50: 11 | J50: 28050 | K50: 易敏
...
