Workbook

Sheet Sheet1 
A1: 学院 | B1: 学生学号 | C1: 学生姓名 | D1: 年级 | E1: 前期经费 有效期 | F1: 划转标准 (元/月) | G1: 按年划转月份 | H1: 按年划转金额 | I1: 一次性划转月份 | J1: 一次性划转金额 | K1: 导师姓名 | L1: 备注
A2: 01 | B2: BX2601519 | C2: 高博 | D2: =MID(B2,3,2) -> 26 | E2: / | F2: 2550 | G2: 13 | H2: =G2*F2 -> 33150 | I2: 48 | J2: =I2*F2 -> 122400 | K2: 高金翎
A3: 01 | B3: BX2601512 | C3: 麦艺彬 | D3: =MID(B3,3,2) -> 26 | E3: / | F3: 2550 | G3: 13 | H3: =G3*F3 -> 33150 | I3: 48 | J3: =I3*F3 -> 122400 | K3: 卢天健
A4: 01 | B4: BX2601516 | C4: 柳凌杰 | D4: =MID(B4,3,2) -> 26 | E4: / | F4: 2550 | G4: 13 | H4: =G4*F4 -> 33150 | I4: 48 | J4: =I4*F4 -> 122400 | K4: 聂日明
A5: 01 | B5: BX2601504 | C5: 许波 | D5: =MID(B5,3,2) -> 26 | E5: / | F5: 2550 | G5: 13 | H5: =G5*F5 -> 33150 | I5: 48 | J5: =I5*F5 -> 122400 | K5: 台国安
A6: 01 | B6: BX2601514 | C6: 丰浚轩 | D6: =MID(B6,3,2) -> 26 | E6: / | F6: 2550 | G6: 13 | H6: =G6*F6 -> 33150 | I6: 48 | J6: =I6*F6 -> 122400 | K6: 杨鲤铭
A7: 01 | B7: BX2601529 | C7: 焦晨佳 | D7: =MID(B7,3,2) -> 26 | E7: / | F7: 2550 | G7: 13 | H7: =G7*F7 -> 33150 | I7: 48 | J7: =I7*F7 -> 122400 | K7: 易敏
A8: 01 | B8: BX2601510 | C8: 乙明国 | D8: =MID(B8,3,2) -> 26 | E8: / | F8: 2550 | G8: 13 | H8: =G8*F8 -> 33150 | I8: 48 | J8: =I8*F8 -> 122400 | K8: 张超
A9: 01 | B9: BX2601523 | C9: 朱恒基 | D9: =MID(B9,3,2) -> 26 | E9: / | F9: 2550 | G9: 13 | H9: =G9*F9 -> 33150 | I9: 48 | J9: =I9*F9 -> 122400 | K9: 赵淳生
A10: 01 | B10: BX2601902 | C10: 王雨欣 | D10: =MID(B10,3,2) -> 26 | E10: / | F10: 2550 | G10: 13 | H10: =G10*F10 -> 33150 | I10: 60 | J10: =I10*F10 -> 153000 | K10: 赵宁 | L10: 学制5年
A11: 01 | B11: BX2601502 | C11: 张恒瑜 | D11: =MID(B11,3,2) -> 26 | E11: / | F11: 2550 | G11: 13 | H11: =G11*F11 -> 33150 | I11: 48 | J11: =I11*F11 -> 122400 | K11: 周储伟
A12: 01 | B12: BX2601501 | C12: 苏珂 | D12: =MID(B12,3,2) -> 26 | E12: / | F12: 2550 | G12: 13 | H12: =G12*F12 -> 33150 | I12: 48 | J12: =I12*F12 -> 122400 | K12: 周春华
A13: 01 | B13: BX2501523 | C13: 刘畅 | D13: =MID(B13,3,2) -> 25 | E13: 46266 | F13: 2550 | G13: 12 | H13: =G13*F13 -> 30600 | I13: 35 | J13: =I13*F13 -> 89250 | K13: 陈超
A14: 01 | B14: BX2501514 | C14: 马弘扬 | D14: =MID(B14,3,2) -> 25 | E14: 46266 | F14: 2550 | G14: 12 | H14: =G14*F14 -> 30600 | I14: 35 | J14: =I14*F14 -> 89250 | K14: 邓威
A15: 01 | B15: BX2501515 | C15: 张昊昊 | D15: =MID(B15,3,2) -> 25 | E15: 46266 | F15: 2550 | G15: 12 | H15: =G15*F15 -> 30600 | I15: 35 | J15: =I15*F15 -> 89250 | K15: 邓威
A16: 01 | B16: BX2501516 | C16: 蒋伟忠 | D16: =MID(B16,3,2) -> 25 | E16: 46266 | F16: 2550 | G16: 12 | H16: =G16*F16 -> 30600 | I16: 35 | J16: =I16*F16 -> 89250 | K16: 高金翎
A17: 01 | B17: BX2501517 | C17: 泰哲 | D17: =MID(B17,3,2) -> 25 | E17: 46266 | F17: 2550 | G17: 12 | H17: =G17*F17 -> 30600 | I17: 35 | J17: =I17*F17 -> 89250 | K17: 高金翎
A18: 01 | B18: BX2501518 | C18: 彭淑婷 | D18: =MID(B18,3,2) -> 25 | E18: 46266 | F18: 2550 | G18: 12 | H18: =G18*F18 -> 30600 | I18: 35 | J18: =I18*F18 -> 89250 | K18: 韩玉龙
A19: 01 | B19: BX2501709 | C19: 刘正东 | D19: =MID(B19,3,2) -> 25 | E19: 46266 | F19: 2550 | G19: 12 | H19: =G19*F19 -> 30600 | I19: 35 | J19: =I19*F19 -> 89250 | K19: 韩玉龙
A20: 01 | B20: BX2501527 | C20: 李海龙 | D20: =MID(B20,3,2) -> 25 | E20: 46266 | F20: 2550 | G20: 12 | H20: =G20*F20 -> 30600 | I20: 35 | J20: =I20*F20 -> 89250 | K20: 李华峰
A21: 01 | B21: BX2501708 | C21: 宋沭浩 | D21: =MID(B21,3,2) -> 25 | E21: 46266 | F21: 2550 | G21: 12 | H21: =G21*F21 -> 30600 | I21: 35 | J21: =I21*F21 -> 89250 | K21: 李鹏
A22: 01 | B22: BX2501710 | C22: 杨志川 | D22: =MID(B22,3,2) -> 25 | E22: 46266 | F22: 2550 | G22: 12 | H22: =G22*F22 -> 30600 | I22: 35 | J22: =I22*F22 -> 89250 | K22: 乔瑞喜
A23: 01 | B23: BX2501522 | C23: 张鼎 | D23: =MID(B23,3,2) -> 25 | E23: 46266 | F23: 2550 | G23: 12 | H23: =G23*F23 -> 30600 | I23: 35 | J23: =I23*F23 -> 89250 | K23: 裘进浩
A24: 01 | B24: BX2501526 | C24: 江涵 | D24: =MID(B24,3,2) -> 25 | E24: 46266 | F24: 2550 | G24: 12 | H24: =G24*F24 -> 30600 | I24: 35 | J24: =I24*F24 -> 89250 | K24: 王亮
... A35: 01 | B35: BX2401525 | C35: 赵国志 | D35: =MID(B35,3,2) -> 24 | E35: 46266 | F35: 2550 | G35: 12 | H35: =G35*F35 -> 30600 | I35: 23 | J35: =I35*F35 -> 58650 | K35: 陈普会
A36: 01 | B36: BX2401904 | C36: 程柯心 | D36: =MID(B36,3,2) -> 24 | E36: 46266 | F36: 2550 | G36: 12 | H36: =G36*F36 -> 30600 | I36: 35 | J36: =I36*F36 -> 89250 | K36: 金栋平 | L36: 学制5年
A37: 01 | B37: BX2401515 | C37: 潘子韬 | D37: =MID(B37,3,2) -> 24 | E37: 46266 | F37: 2550 | G37: 12 | H37: =G37*F37 -> 30600 | I37: 23 | J37: =I37*F37 -> 58650 | K37: 刘强
A38: 01 | B38: BX2401516 | C38: 时浩林 | D38: =MID(B38,3,2) -> 24 | E38: 46266 | F38: 2550 | G38: 12 | H38: =G38*F38 -> 30600 | I38: 23 | J38: =I38*F38 -> 58650 | K38: 刘强
A39: 01 | B39: BX2401509 | C39: 邸海茂 | D39: =MID(B39,3,2) -> 24 | E39: 46266 | F39: 2550 | G39: 12 | H39: =G39*F39 -> 30600 | I39: 23 | J39: =I39*F39 -> 58650 | K39: 钱征华
A40: 01 | B40: BX2401005 | C40: 许茅平 | D40: =MID(B40,3,2) -> 24 | E40: 46266 | F40: 2550 | G40: 12 | H40: =G40*F40 -> 30600 | I40: 18 | J40: =I40*F40 -> 45900 | K40: 台国安 | L40: 春博
A41: 01 | B41: BX2401513 | C41: 王文泽 | D41: =MID(B41,3,2) -> 24 | E41: 46266 | F41: 2550 | G41: 12 | H41: =G41*F41 -> 30600 | I41: 23 | J41: =I41*F41 -> 58650 | K41: 吴奇
A42: 01 | B42: BX2401524 | C42: 李煜 | D42: =MID(B42,3,2) -> 24 | E42: 46266 | F42: 2550 | G42: 12 | H42: =G42*F42 -> 30600 | I42: 23 | J42: =I42*F42 -> 58650 | K42: 薛彩军
A43: 01 | B43: BX2301515 | C43: 张京俊 | D43: =MID(B43,3,2) -> 23 | E43: 46266 | F43: 2550 | G43: 11 | H43: =G43*F43 -> 28050 | I43: 11 | J43: 28050 | K43: 董昊
A44: 01 | B44: BZ2301513 | C44: 谢春梅 | D44: =MID(B44,3,2) -> 23 | E44: 46266 | F44: 2550 | G44: 11 | H44: =G44*F44 -> 28050 | I44: 11 | J44: 28050 | K44: 韩玉龙
A45: 01 | B45: BX2301504 | C45: 朱瑞 | D45: =MID(B45,3,2) -> 23 | E45: 46266 | F45: 2550 | G45: 11 | H45: =G45*F45 -> 28050 | I45: 11 | J45: 28050 | K45: 台国安
A46: 01 | B46: BX2301518 | C46: 王博 | D46: =MID(B46,3,2) -> 23 | E46: 46266 | F46: 2550 | G46: 11 | H46: =G46*F46 -> 28050 | I46: 11 | J46: 28050 | K46: 吴大伟
A47: 01 | B47: BX2301519 | C47: 俞航 | D47: =MID(B47,3,2) -> 23 | E47: 46266 | F47: 2550 | G47: 11 | H47: =G47*F47 -> 28050 | I47: 11 | J47: 28050 | K47: 吴大伟
A48: 01 | B48: BX2301506 | C48: 肖鸿威 | D48: =MID(B48,3,2) -> 23 | E48: 46266 | F48: 2550 | G48: 11 | H48: =G48*F48 -> 28050 | I48: 11 | J48: 28050 | K48: 吴杰
A49: 01 | B49: BX2301526 | C49: 冯媛媛 | D49: =MID(B49,3,2) -> 23 | E49: 46266 | F49: 2550 | G49: 11 | H49: =G49*F49 -> 28050 | I49: 11 | J49: 28050 | K49: 吴奇
A50: 01 | B50: BX2301509 | C50: 李振凯 | D50: =MID(B50,3,2) -> 23 | E50: 46266 | F50: 2550 | G50: 11 | H50: =G50*F50 -> 28050 | I50: 11 | J50: 28050 | K50: 易敏
A51: 01 | B51: BX2201513 | C51: 邵凡 | D51: =MID(B51,3,2) -> 22 | E51: 46204 | F51: 2550 | G51: 1 | H51: =G51*F51 -> 2550 | I51: 1 | J51: 2550 | K51: 邱雷
A52: 01 | B52: BZ2601524 | C52: 吉骏翔 | D52: 26 | E52: / | F52: 2550 | G52: 13 | H52: =G52*F52 -> 33150 | I52: 48 | J52: =I52*F52 -> 122400 | K52: =VLOOKUP(B52,[1]学生信息!$A$1:$C$6472,3,FALSE) -> 高金翎
A53: 01 | B53: BZ2601710 | C53: 赵圣 | D53: 26 | E53: / | F53: 2550 | G53: 13 | H53: =G53*F53 -> 33150 | I53: 48 | J53: =I53*F53 -> 122400 | K53: =VLOOKUP(B53,[1]学生信息!$A$1:$C$6472,3,FALSE) -> 高金翎
A54: 01 | B54: BZ2601526 | C54: 杨心仪 | D54: 26 | E54: / | F54: 2550 | G54: 13 | H54: =G54*F54 -> 33150 | I54: 48 | J54: =I54*F54 -> 122400 | K54: =VLOOKUP(B54,[1]学生信息!$A$1:$C$6472,3,FALSE) -> 韩玉龙
A55: 01 | B55: BZ2601525 | C55: 陈方俊 | D55: 26 | E55: / | F55: 2550 | G55: 13 | H55: =G55*F55 -> 33150 | I55: 48 | J55: =I55*F55 -> 122400 | K55: =VLOOKUP(B55,[1]学生信息!$A$1:$C$6472,3,FALSE) -> 韩玉龙
A56: 01 | B56: BZ2601527 | C56: 陈承仪 | D56: 26 | E56: / | F56: 2550 | G56: 13 | H56: =G56*F56 -> 33150 | I56: 48 | J56: =I56*F56 -> 122400 | K56: =VLOOKUP(B56,[1]学生信息!$A$1:$C$6472,3,FALSE) -> 刘天俊
A57: 01 | B57: BZ2601528 | C57: 龙梦祝 | D57: 26 | E57: / | F57: 2550 | G57: 13 | H57: =G57*F57 -> 33150 | I57: 48 | J57: =I57*F57 -> 122400 | K57: =VLOOKUP(B57,[1]学生信息!$A$1:$C$6472,3,FALSE) -> 刘天俊
A58: 01 | B58: BZ2601707 | C58: 董杨 | D58: 26 | E58: / | F58: 2550 | G58: 13 | H58: =G58*F58 -> 33150 | I58: 48 | J58: =I58*F58 -> 122400 | K58: =VLOOKUP(B58,[1]学生信息!$A$1:$C$6472,3,FALSE) -> 卢天健
A59: 01 | B59: BZ2601711 | C59: 岳忠阁 | D59: 26 | E59: / | F59: 2550 | G59: 13 | H59: =G59*F59 -> 33150 | I59: 48 | J59: =I59*F59 -> 122400 | K59: =VLOOKUP(B59,[1]学生信息!$A$1:$C$6472,3,FALSE) -> 孟晗
A60: 01 | B60: BZ2601515 | C60: 章枞晖 | D60: 26 | E60: / | F60: 2550 | G60: 13 | H60: =G60*F60 -> 33150 | I60: 48 | J60: =I60*F60 -> 122400 | K60: =VLOOKUP(B60,[1]学生信息!$A$1:$C$6472,3,FALSE) -> 钱征华
A61: 01 | B61: BZ2601505 | C61: 冯浩然 | D61: 26 | E61: / | F61: 2550 | G61: 13 | H61: =G61*F61 -> 33150 | I61: 48 | J61: =I61*F61 -> 122400 | K61: =VLOOKUP(B61,[1]学生信息!$A$1:$C$6472,3,FALSE) -> 唐智礼
A62: 01 | B62: BZ2601518 | C62: 周健斌 | D62: 26 | E62: / | F62: 2550 | G62: 13 | H62: =G62*F62 -> 33150 | I62: 48 | J62: =I62*F62 -> 122400 | K62: =VLOOKUP(B62,[1]学生信息!$A$1:$C$6472,3,FALSE) -> 吴大伟
A63: 01 | B63: BX2601706 | C63: 常嘉浩 | D63: 26 | E63: / | F63: 2550 | G63: 13 | H63: =G63*F63 -> 33150 | I63: 48 | J63: =I63*F63 -> 122400 | K63: =VLOOKUP(B63,[1]学生信息!$A$1:$C$6472,3,FALSE) -> 肖天航
... A71: 01 | B71: BZ2601701 | C71: 熊禹钦 | D71: 26 | E71: / | F71: 2550 | G71: 13 | H71: =G71*F71 -> 33150 | I71: 48 | J71: =I71*F71 -> 122400 | K71: =VLOOKUP(B71,[1]学生信息!$A$1:$C$6472,3,FALSE) -> 朱春玲
A72: 02 | B72: BX2602504 | C72: 毛超越 | D72: =MID(B72,3,2) -> 26 | E72: / | F72: 2550 | G72: 13 | H72: =G72*F72 -> 33150 | I72: 48 | J72: =I72*F72 -> 122400 | K72: 范育新
A73: 02 | B73: BX2602507 | C73: 程婉婉 | D73: =MID(B73,3,2) -> 26 | E73: / | F73: 2550 | G73: 13 | H73: =G73*F73 -> 33150 | I73: 48 | J73: =I73*F73 -> 122400 | K73: 高菁
A74: 02 | B74: BX2602508 | C74: 刘铭洋 | D74: =MID(B74,3,2) -> 26 | E74: / | F74: 2550 | G74: 13 | H74: =G74*F74 -> 33150 | I74: 48 | J74: =I74*F74 -> 122400 | K74: 高菁
A75: 02 | B75: BX2602506 | C75: 刘翰熠 | D75: =MID(B75,3,2) -> 26 | E75: / | F75: 2550 | G75: 13 | H75: =G75*F75 -> 33150 | I75: 48 | J75: =I75*F75 -> 122400 | K75: 连文磊
A76: 02 | B76: BX2602511 | C76: 陈凯文 | D76: =MID(B76,3,2) -> 26 | E76: / | F76: 2550 | G76: 13 | H76: =G76*F76 -> 33150 | I76: 48 | J76: =I76*F76 -> 122400 | K76: 刘璐璐
A77: 02 | B77: BX2602908 | C77: 段佳彤 | D77: =MID(B77,3,2) -> 26 | E77: / | F77: 2550 | G77: 13 | H77: =G77*F77 -> 33150 | I77: 60 | J77: =I77*F77 -> 153000 | K77: 刘向雷 | L77: 学制5年
A78: 02 | B78: BX2602513 | C78: 谢建林 | D78: =MID(B78,3,2) -> 26 | E78: / | F78: 2550 | G78: 13 | H78: =G78*F78 -> 33150 | I78: 48 | J78: =I78*F78 -> 122400 | K78: 赵利果
A79: 02 | B79: BX2602327 | C79: 罗衡卿 | D79: =MID(B79,3,2) -> 26 | E79: 46266 | F79: 2550 | G79: 12 | H79: =G79*F79 -> 30600 | I79: 42 | J79: =I79*F79 -> 107100 | K79: 赵永平 | L79: 春博
A80: 02 | B80: BX2602501 | C80: 黄洺达 | D80: =MID(B80,3,2) -> 26 | E80: / | F80: 2550 | G80: 13 | H80: =G80*F80 -> 33150 | I80: 48 | J80: =I80*F80 -> 122400 | K80: 周冠
A81: 02 | B81: BZ2502501 | C81: 张哲诚 | D81: =MID(B81,3,2) -> 25 | E81: 46266 | F81: 2550 | G81: 12 | H81: =G81*F81 -> 30600 | I81: 35 | J81: =I81*F81 -> 89250 | K81: 陈伟
A82: 02 | B82: BX2502509 | C82: 舒鹏 | D82: =MID(B82,3,2) -> 25 | E82: 46266 | F82: 2550 | G82: 12 | H82: =G82*F82 -> 30600 | I82: 35 | J82: =I82*F82 -> 89250 | K82: 黄国平
A83: 02 | B83: BX2502704 | C83: 龚浩翔 | D83: =MID(B83,3,2) -> 25 | E83: 46266 | F83: 2550 | G83: 12 | H83: =G83*F83 -> 30600 | I83: 35 | J83: =I83*F83 -> 89250 | K83: 江荣
A84: 02 | B84: BX2502702 | C84: 季天雍 | D84: =MID(B84,3,2) -> 25 | E84: 46266 | F84: 2550 | G84: 12 | H84: =G84*F84 -> 30600 | I84: 35 | J84: =I84*F84 -> 89250 | K84: 李建中
A85: 02 | B85: BX2502703 | C85: 王恩礼 | D85: =MID(B85,3,2) -> 25 | E85: 46266 | F85: 2550 | G85: 12 | H85: =G85*F85 -> 30600 | I85: 35 | J85: =I85*F85 -> 89250 | K85: 连文磊
A86: 02 | B86: BX2502506 | C86: 柴杰 | D86: =MID(B86,3,2) -> 25 | E86: 46266 | F86: 2550 | G86: 12 | H86: =G86*F86 -> 30600 | I86: 35 | J86: =I86*F86 -> 89250 | K86: 刘向雷
A87: 02 | B87: BX2502507 | C87: 农凯飞 | D87: =MID(B87,3,2) -> 25 | E87: 46266 | F87: 2550 | G87: 12 | H87: =G87*F87 -> 30600 | I87: 35 | J87: =I87*F87 -> 89250 | K87: 刘向雷
A88: 02 | B88: BX2502508 | C88: 谢自浩 | D88: =MID(B88,3,2) -> 25 | E88: 46266 | F88: 2550 | G88: 12 | H88: =G88*F88 -> 30600 | I88: 35 | J88: =I88*F88 -> 89250 | K88: 刘向雷
A89: 02 | B89: BX2502706 | C89: 张鼎成 | D89: =MID(B89,3,2) -> 25 | E89: 46266 | F89: 2550 | G89: 12 | H89: =G89*F89 -> 30600 | I89: 35 | J89: =I89*F89 -> 89250 | K89: 毛军逵
A90: 02 | B90: BZ2502701 | C90: 兰昕宇 | D90: =MID(B90,3,2) -> 25 | E90: 46266 | F90: 2550 | G90: 12 | H90: =G90*F90 -> 30600 | I90: 35 | J90: =I90*F90 -> 89250 | K90: 毛军逵
A91: 02 | B91: BX2502510 | C91: 李国昌 | D91: =MID(B91,3,2) -> 25 | E91: 46266 | F91: 2550 | G91: 12 | H91: =G91*F91 -> 30600 | I91: 35 | J91: =I91*F91 -> 89250 | K91: 潘慕绚
A92: 02 | B92: BX2502705 | C92: 李秀发 | D92: =MID(B92,3,2) -> 25 | E92: 46266 | F92: 2550 | G92: 12 | H92: =G92*F92 -> 30600 | I92: 35 | J92: =I92*F92 -> 89250 | K92: 宋迎东
... A96: 02 | B96: BX2502503 | C96: 雷恩宏 | D96: =MID(B96,3,2) -> 25 | E96: 46266 | F96: 2550 | G96: 12 | H96: =G96*F96 -> 30600 | I96: 35 | J96: =I96*F96 -> 89250 | K96: 宣益民
A97: 02 | B97: BX2502930 | C97: 周鑫宇 | D97: =MID(B97,3,2) -> 25 | E97: 46266 | F97: 2550 | G97: 12 | H97: =G97*F97 -> 30600 | I97: 47 | J97: =I97*F97 -> 119850 | K97: 颜应文 | L97: 学制5年
A98: 02 | B98: BZ2502702 | C98: 戴雨璇 | D98: =MID(B98,3,2) -> 25 | E98: 46266 | F98: 2550 | G98: 12 | H98: =G98*F98 -> 30600 | I98: 35 | J98: =I98*F98 -> 89250 | K98: 张宏建
A99: 02 | B99: BZ2502504 | C99: 莫均龙 | D99: =MID(B99,3,2) -> 25 | E99: 46266 | F99: 2550 | G99: 12 | H99: =G99*F99 -> 30600 | I99: 35 | J99: =I99*F99 -> 89250 | K99: 赵利果
A100: 02 | B100: BZ2402502 | C100: 王智胜 | D100: =MID(B100,3,2) -> 24 | E100: 46266 | F100: 2550 | G100: 12 | H100: =G100*F100 -> 30600 | I100: 23 | J100: =I100*F100 -> 58650 | K100: 黄国平
A101: 02 | B101: BZ2402509 | C101: 张子良 | D101: =MID(B101,3,2) -> 24 | E101: 46266 | F101: 2550 | G101: 12 | H101: =G101*F101 -> 30600 | I101: 23 | J101: =I101*F101 -> 58650 | K101: 江荣
A102: 02 | B102: BX2402503 | C102: 郭凡军 | D102: =MID(B102,3,2) -> 24 | E102: 46266 | F102: 2550 | G102: 12 | H102: =G102*F102 -> 30600 | I102: 23 | J102: =I102*F102 -> 58650 | K102: 李建中
A103: 02 | B103: BX2402506 | C103: 张帆 | D103: =MID(B103,3,2) -> 24 | E103: 46266 | F103: 2550 | G103: 12 | H103: =G103*F103 -> 30600 | I103: 23 | J103: =I103*F103 -> 58650 | K103: 连文磊
A104: 02 | B104: BX2402505 | C104: 高永吉 | D104: =MID(B104,3,2) -> 24 | E104: 46266 | F104: 2550 | G104: 12 | H104: =G104*F104 -> 30600 | I104: 23 | J104: =I104*F104 -> 58650 | K104: 宣益民
A105: 02 | B105: BX2402507 | C105: 周焱 | D105: =MID(B105,3,2) -> 24 | E105: 46266 | F105: 2550 | G105: 12 | H105: =G105*F105 -> 30600 | I105: 23 | J105: =I105*F105 -> 58650 | K105: 宣益民
A106: 02 | B106: BZ2402701 | C106: 徐唯 | D106: =MID(B106,3,2) -> 24 | E106: 46266 | F106: 2550 | G106: 12 | H106: =G106*F106 -> 30600 | I106: 23 | J106: =I106*F106 -> 58650 | K106: 袁化成
A107: 02 | B107: BZ2402306 | C107: 杨德壮 | D107: =MID(B107,3,2) -> 24 | E107: 46204 | F107: 2550 | G107: 14 | H107: =G107*F107 -> 35700 | I107: 20 | J107: =I107*F107 -> 51000 | K107: 袁化成 | L107: 春博
A108: 02 | B108: BZ2402510 | C108: 刘朋帅 | D108: =MID(B108,3,2) -> 24 | E108: 46266 | F108: 2550 | G108: 12 | H108: =G108*F108 -> 30600 | I108: 23 | J108: =I108*F108 -> 58650 | K108: 赵利果
A109: 02 | B109: BZ2302502 | C109: 张经纬 | D109: =MID(B109,3,2) -> 23 | E109: 46266 | F109: 2550 | G109: 11 | H109: =G109*F109 -> 28050 | I109: 11 | J109: 28050 | K109: 毛军逵
A110: 02 | B110: BX2302701 | C110: 崔鑫龙 | D110: =MID(B110,3,2) -> 23 | E110: 46266 | F110: 2550 | G110: 11 | H110: =G110*F110 -> 28050 | I110: 11 | J110: 28050 | K110: 徐惊雷
A111: 02 | B111: BX2302503 | C111: 杜康 | D111: =MID(B111,3,2) -> 23 | E111: 46266 | F111: 2550 | G111: 11 | H111: =G111*F111 -> 28050 | I111: 11 | J111: 28050 | K111: 宣益民
A112: 02 | B112: BZ2302303 | C112: 匡正 | D112: =MID(B112,3,2) -> 23 | E112: 46204 | F112: 2550 | G112: 8 | H112: =G112*F112 -> 20400 | I112: 8 | J112: 20400 | K112: 袁化成 | L112: 春博
A113: 02 | B113: BZ2602701 | C113: 马一铭 | D113: 26 | E113: / | F113: 2550 | G113: 13 | H113: =G113*F113 -> 33150 | I113: 48 | J113: =I113*F113 -> 122400 | K113: =VLOOKUP(B113,[1]学生信息!$A$1:$C$6472,3,FALSE) -> 毛军逵
A114: 02 | B114: BZ2602702 | C114: 张楷轩 | D114: 26 | E114: / | F114: 2550 | G114: 13 | H114: =G114*F114 -> 33150 | I114: 48 | J114: =I114*F114 -> 122400 | K114: =VLOOKUP(B114,[1]学生信息!$A$1:$C$6472,3,FALSE) -> 袁化成
A115: 02 | B115: BZ2602501 | C115: 郑伟 | D115: 26 | E115: / | F115: 2550 | G115: 13 | H115: =G115*F115 -> 33150 | I115: 48 | J115: =I115*F115 -> 122400 | K115: =VLOOKUP(B115,[1]学生信息!$A$1:$C$6472,3,FALSE) -> 周冠
A116: 03 | B116: BX2603505 | C116: 王浩 | D116: =MID(B116,3,2) -> 26 | E116: / | F116: 2550 | G116: 13 | H116: =G116*F116 -> 33150 | I116: 48 | J116: =I116*F116 -> 122400 | K116: 陈杰
A117: 03 | B117: BX2603527 | C117: 刘晓丹 | D117: =MID(B117,3,2) -> 26 | E117: / | F117: 2550 | G117: 13 | H117: =G117*F117 -> 33150 | I117: 48 | J117: =I117*F117 -> 122400 | K117: 陈乐君
A118: 03 | B118: BX2603522 | C118: 刘广杰 | D118: =MID(B118,3,2) -> 26 | E118: / | F118: 2550 | G118: 13 | H118: =G118*F118 -> 33150 | I118: 48 | J118: =I118*F118 -> 122400 | K118: 吕品
A119: 03 | B119: BX2603501 | C119: 张磊 | D119: =MID(B119,3,2) -> 26 | E119: / | F119: 2550 | G119: 13 | H119: =G119*F119 -> 33150 | I119: 48 | J119: =I119*F119 -> 122400 | K119: 王平
A120: 03 | B120: BX2603521 | C120: 田苗苗 | D120: =MID(B120,3,2) -> 26 | E120: / | F120: 2550 | G120: 13 | H120: =G120*F120 -> 33150 | I120: 48 | J120: =I120*F120 -> 122400 | K120: 王融
...
